BEGIN:VCALENDAR
VERSION:2.0
PRODID:-//Brisbane Jain Sangh - ECPv6.15.20//NONSGML v1.0//EN
CALSCALE:GREGORIAN
METHOD:PUBLISH
X-WR-CALNAME:Brisbane Jain Sangh
X-ORIGINAL-URL:https://www.bjs.org.au
X-WR-CALDESC:Events for Brisbane Jain Sangh
REFRESH-INTERVAL;VALUE=DURATION:PT1H
X-Robots-Tag:noindex
X-PUBLISHED-TTL:PT1H
BEGIN:VTIMEZONE
TZID:UTC
BEGIN:STANDARD
TZOFFSETFROM:+0000
TZOFFSETTO:+0000
TZNAME:UTC
DTSTART:20210101T000000
END:STANDARD
END:VTIMEZONE
BEGIN:VEVENT
DTSTART;VALUE=DATE:20220814
DTEND;VALUE=DATE:20220815
DTSTAMP:20260422T010418
CREATED:20220812T063133Z
LAST-MODIFIED:20220812T063133Z
UID:2271-1660435200-1660521599@www.bjs.org.au
SUMMARY:Snatra Puja
DESCRIPTION:
URL:https://www.bjs.org.au/event/snatra-puja/
END:VEVENT
END:VCALENDAR